BEGIN:VCALENDAR
VERSION:2.0
PRODID:-//Tukios.com/
BEGIN:VEVENT
UID:a8270d5a-d5c7-4fb5-8b09-3313fb6f427d@www.hornungfuneralhome.com
DTSTAMP:20260424T002555Z
DTSTART:20260430T140000Z
DTEND:20260501T000000Z
SUMMARY:Visitation
DESCRIPTION:
URL:https://www.hornungfuneralhome.com/obituaries/sandra-sosa
LOCATION:Hornung Family Funeral Home 1212 W. 2nd  Liberal KS 67901
GEO:37.0392501;-100.9379551
END:VEVENT
END:VCALENDAR