BEGIN:VCALENDAR
VERSION:2.0
PRODID:-//Tukios.com/
BEGIN:VEVENT
UID:6fa3d0d7-da3d-495f-9dd6-9ab6df911331@www.hornungfuneralhome.com
DTSTAMP:20260424T002101Z
DTSTART:20260501T160000Z
DTEND:20260501T170000Z
SUMMARY:Funeral Service
DESCRIPTION:
URL:https://www.hornungfuneralhome.com/obituaries/sandra-sosa
LOCATION:Faith Tabernacle Church 514 N Kansas Ave  Liberal KS 67901
GEO:37.043344;-100.9224942
END:VEVENT
END:VCALENDAR